BEGIN:VCALENDAR
VERSION:2.0
PRODID:-//ASSETS - ECPv6.15.20//NONSGML v1.0//EN
CALSCALE:GREGORIAN
METHOD:PUBLISH
X-WR-CALNAME:ASSETS
X-ORIGINAL-URL:https://assetspa.org
X-WR-CALDESC:Events for ASSETS
REFRESH-INTERVAL;VALUE=DURATION:PT1H
X-Robots-Tag:noindex
X-PUBLISHED-TTL:PT1H
BEGIN:VTIMEZONE
TZID:America/New_York
BEGIN:DAYLIGHT
TZOFFSETFROM:-0500
TZOFFSETTO:-0400
TZNAME:EDT
DTSTART:20150308T070000
END:DAYLIGHT
BEGIN:STANDARD
TZOFFSETFROM:-0400
TZOFFSETTO:-0500
TZNAME:EST
DTSTART:20151101T060000
END:STANDARD
BEGIN:DAYLIGHT
TZOFFSETFROM:-0500
TZOFFSETTO:-0400
TZNAME:EDT
DTSTART:20160313T070000
END:DAYLIGHT
BEGIN:STANDARD
TZOFFSETFROM:-0400
TZOFFSETTO:-0500
TZNAME:EST
DTSTART:20161106T060000
END:STANDARD
BEGIN:DAYLIGHT
TZOFFSETFROM:-0500
TZOFFSETTO:-0400
TZNAME:EDT
DTSTART:20170312T070000
END:DAYLIGHT
BEGIN:STANDARD
TZOFFSETFROM:-0400
TZOFFSETTO:-0500
TZNAME:EST
DTSTART:20171105T060000
END:STANDARD
END:VTIMEZONE
BEGIN:VEVENT
DTSTART;TZID=America/New_York:20160315T180000
DTEND;TZID=America/New_York:20160315T210000
DTSTAMP:20260422T034151
CREATED:20160212T211021Z
LAST-MODIFIED:20160212T211021Z
UID:10000493-1458064800-1458075600@assetspa.org
SUMMARY:Business Start-Up Learning Circle
DESCRIPTION:
URL:https://assetspa.org/event/business-start-up-learning-circle/2016-03-15/
LOCATION:Binns Park\, 100 Block of North Queen Street \, Lancaster\, PA\, 17603\, United States
CATEGORIES:Closed Events
GEO:40.0398934;-76.3060455
X-APPLE-STRUCTURED-LOCATION;VALUE=URI;X-ADDRESS=Binns Park 100 Block of North Queen Street  Lancaster PA 17603 United States;X-APPLE-RADIUS=500;X-TITLE=100 Block of North Queen Street:geo:-76.3060455,40.0398934
END:VEVENT
BEGIN:VEVENT
DTSTART;TZID=America/New_York:20160309T180000
DTEND;TZID=America/New_York:20160309T210000
DTSTAMP:20260422T034151
CREATED:20160212T211705Z
LAST-MODIFIED:20160212T211705Z
UID:10000502-1457546400-1457557200@assetspa.org
SUMMARY:Women's Leadership Circle
DESCRIPTION:
URL:https://assetspa.org/event/womens-leadership-circle/2016-03-09/
LOCATION:Binns Park\, 100 Block of North Queen Street \, Lancaster\, PA\, 17603\, United States
CATEGORIES:Closed Events
GEO:40.0398934;-76.3060455
X-APPLE-STRUCTURED-LOCATION;VALUE=URI;X-ADDRESS=Binns Park 100 Block of North Queen Street  Lancaster PA 17603 United States;X-APPLE-RADIUS=500;X-TITLE=100 Block of North Queen Street:geo:-76.3060455,40.0398934
END:VEVENT
BEGIN:VEVENT
DTSTART;TZID=America/New_York:20160308T180000
DTEND;TZID=America/New_York:20160308T210000
DTSTAMP:20260422T034151
CREATED:20160212T211021Z
LAST-MODIFIED:20160212T211021Z
UID:10000492-1457460000-1457470800@assetspa.org
SUMMARY:Business Start-Up Learning Circle
DESCRIPTION:
URL:https://assetspa.org/event/business-start-up-learning-circle/2016-03-08/
LOCATION:Binns Park\, 100 Block of North Queen Street \, Lancaster\, PA\, 17603\, United States
CATEGORIES:Closed Events
GEO:40.0398934;-76.3060455
X-APPLE-STRUCTURED-LOCATION;VALUE=URI;X-ADDRESS=Binns Park 100 Block of North Queen Street  Lancaster PA 17603 United States;X-APPLE-RADIUS=500;X-TITLE=100 Block of North Queen Street:geo:-76.3060455,40.0398934
END:VEVENT
BEGIN:VEVENT
DTSTART;TZID=America/New_York:20160303T110000
DTEND;TZID=America/New_York:20160303T170000
DTSTAMP:20260422T034151
CREATED:20160212T201148Z
LAST-MODIFIED:20160212T201148Z
UID:10000478-1457002800-1457024400@assetspa.org
SUMMARY:Dansko Field Trip
DESCRIPTION:You’ve heard of Dansko Footwear\, but did you know Dansko is 100% employee-owned? Or Dankso’s B Corp certification\, support of the Two Ten Foundation\, or membership in the Phildelphia SBN\, U.S. Green Building Council of Delaware Valley\, and the American Sustainable Business Council? \nASSETS is taking a field trip to the Dansko HQ in West Grove\, PA! Learn with us as we explore the Dansko facilities and hear how Dansko makes triple bottom line work for everyone. After the tour\, guests will have time to explore the Dansko Factory Outlet (with outlet prices!) before return to Lancaster. \nTicket cost: $20\, transportation and lunch included. Registration required\, by February 15th. Bus departs promptly at 11am to return by 5pm. \nSPACE IS LIMITED. REGISTER TODAY!
URL:https://assetspa.org/event/dansko-field-trip-2/
LOCATION:Binns Park\, 100 Block of North Queen Street \, Lancaster\, PA\, 17603\, United States
CATEGORIES:Field Trip
GEO:40.0398934;-76.3060455
X-APPLE-STRUCTURED-LOCATION;VALUE=URI;X-ADDRESS=Binns Park 100 Block of North Queen Street  Lancaster PA 17603 United States;X-APPLE-RADIUS=500;X-TITLE=100 Block of North Queen Street:geo:-76.3060455,40.0398934
END:VEVENT
BEGIN:VEVENT
DTSTART;TZID=America/New_York:20160302T180000
DTEND;TZID=America/New_York:20160302T210000
DTSTAMP:20260422T034151
CREATED:20160212T211705Z
LAST-MODIFIED:20160212T211705Z
UID:10000501-1456941600-1456952400@assetspa.org
SUMMARY:Women's Leadership Circle
DESCRIPTION:
URL:https://assetspa.org/event/womens-leadership-circle/2016-03-02/
LOCATION:Binns Park\, 100 Block of North Queen Street \, Lancaster\, PA\, 17603\, United States
CATEGORIES:Closed Events
GEO:40.0398934;-76.3060455
X-APPLE-STRUCTURED-LOCATION;VALUE=URI;X-ADDRESS=Binns Park 100 Block of North Queen Street  Lancaster PA 17603 United States;X-APPLE-RADIUS=500;X-TITLE=100 Block of North Queen Street:geo:-76.3060455,40.0398934
END:VEVENT
BEGIN:VEVENT
DTSTART;TZID=America/New_York:20160301T180000
DTEND;TZID=America/New_York:20160301T210000
DTSTAMP:20260422T034151
CREATED:20160212T211021Z
LAST-MODIFIED:20160212T211021Z
UID:10000491-1456855200-1456866000@assetspa.org
SUMMARY:Business Start-Up Learning Circle
DESCRIPTION:
URL:https://assetspa.org/event/business-start-up-learning-circle/2016-03-01/
LOCATION:Binns Park\, 100 Block of North Queen Street \, Lancaster\, PA\, 17603\, United States
CATEGORIES:Closed Events
GEO:40.0398934;-76.3060455
X-APPLE-STRUCTURED-LOCATION;VALUE=URI;X-ADDRESS=Binns Park 100 Block of North Queen Street  Lancaster PA 17603 United States;X-APPLE-RADIUS=500;X-TITLE=100 Block of North Queen Street:geo:-76.3060455,40.0398934
END:VEVENT
BEGIN:VEVENT
DTSTART;TZID=America/New_York:20160224T180000
DTEND;TZID=America/New_York:20160224T210000
DTSTAMP:20260422T034151
CREATED:20160212T211705Z
LAST-MODIFIED:20160212T211705Z
UID:10000500-1456336800-1456347600@assetspa.org
SUMMARY:Women's Leadership Circle
DESCRIPTION:
URL:https://assetspa.org/event/womens-leadership-circle/2016-02-24/
LOCATION:Binns Park\, 100 Block of North Queen Street \, Lancaster\, PA\, 17603\, United States
CATEGORIES:Closed Events
GEO:40.0398934;-76.3060455
X-APPLE-STRUCTURED-LOCATION;VALUE=URI;X-ADDRESS=Binns Park 100 Block of North Queen Street  Lancaster PA 17603 United States;X-APPLE-RADIUS=500;X-TITLE=100 Block of North Queen Street:geo:-76.3060455,40.0398934
END:VEVENT
BEGIN:VEVENT
DTSTART;TZID=America/New_York:20160224T180000
DTEND;TZID=America/New_York:20160224T210000
DTSTAMP:20260422T034151
CREATED:20160212T200957Z
LAST-MODIFIED:20160212T200957Z
UID:10000477-1456336800-1456347600@assetspa.org
SUMMARY:Women's Leadership Circle Begins
DESCRIPTION:
URL:https://assetspa.org/event/womens-leadership-circle-begins-2/
LOCATION:Binns Park\, 100 Block of North Queen Street \, Lancaster\, PA\, 17603\, United States
CATEGORIES:Program Kick-off
GEO:40.0398934;-76.3060455
X-APPLE-STRUCTURED-LOCATION;VALUE=URI;X-ADDRESS=Binns Park 100 Block of North Queen Street  Lancaster PA 17603 United States;X-APPLE-RADIUS=500;X-TITLE=100 Block of North Queen Street:geo:-76.3060455,40.0398934
END:VEVENT
BEGIN:VEVENT
DTSTART;TZID=America/New_York:20160224T180000
DTEND;TZID=America/New_York:20160224T210000
DTSTAMP:20260422T034151
CREATED:20160212T200932Z
LAST-MODIFIED:20160212T200932Z
UID:10000476-1456336800-1456347600@assetspa.org
SUMMARY:Business Start-Up Learning Circle Begins
DESCRIPTION:
URL:https://assetspa.org/event/business-start-up-learning-circle-begins-2/
LOCATION:Binns Park\, 100 Block of North Queen Street \, Lancaster\, PA\, 17603\, United States
CATEGORIES:Program Kick-off
GEO:40.0398934;-76.3060455
X-APPLE-STRUCTURED-LOCATION;VALUE=URI;X-ADDRESS=Binns Park 100 Block of North Queen Street  Lancaster PA 17603 United States;X-APPLE-RADIUS=500;X-TITLE=100 Block of North Queen Street:geo:-76.3060455,40.0398934
END:VEVENT
BEGIN:VEVENT
DTSTART;TZID=America/New_York:20160223T180000
DTEND;TZID=America/New_York:20160223T210000
DTSTAMP:20260422T034151
CREATED:20160212T211021Z
LAST-MODIFIED:20160212T211021Z
UID:10000490-1456250400-1456261200@assetspa.org
SUMMARY:Business Start-Up Learning Circle
DESCRIPTION:
URL:https://assetspa.org/event/business-start-up-learning-circle/2016-02-23/
LOCATION:Binns Park\, 100 Block of North Queen Street \, Lancaster\, PA\, 17603\, United States
CATEGORIES:Closed Events
GEO:40.0398934;-76.3060455
X-APPLE-STRUCTURED-LOCATION;VALUE=URI;X-ADDRESS=Binns Park 100 Block of North Queen Street  Lancaster PA 17603 United States;X-APPLE-RADIUS=500;X-TITLE=100 Block of North Queen Street:geo:-76.3060455,40.0398934
END:VEVENT
BEGIN:VEVENT
DTSTART;TZID=America/New_York:20160216T180000
DTEND;TZID=America/New_York:20160216T210000
DTSTAMP:20260422T034151
CREATED:20160212T211021Z
LAST-MODIFIED:20160212T211021Z
UID:10000489-1455645600-1455656400@assetspa.org
SUMMARY:Business Start-Up Learning Circle
DESCRIPTION:
URL:https://assetspa.org/event/business-start-up-learning-circle/2016-02-16/
LOCATION:Binns Park\, 100 Block of North Queen Street \, Lancaster\, PA\, 17603\, United States
CATEGORIES:Closed Events
GEO:40.0398934;-76.3060455
X-APPLE-STRUCTURED-LOCATION;VALUE=URI;X-ADDRESS=Binns Park 100 Block of North Queen Street  Lancaster PA 17603 United States;X-APPLE-RADIUS=500;X-TITLE=100 Block of North Queen Street:geo:-76.3060455,40.0398934
END:VEVENT
BEGIN:VEVENT
DTSTART;VALUE=DATE:20160207
DTEND;VALUE=DATE:20160208
DTSTAMP:20260422T034151
CREATED:20160212T200834Z
LAST-MODIFIED:20160212T200834Z
UID:10000475-1454803200-1454889599@assetspa.org
SUMMARY:Applications due for Women's Leadership Circle
DESCRIPTION:
URL:https://assetspa.org/event/applications-due-for-womens-leadership-circle-2/
LOCATION:Binns Park\, 100 Block of North Queen Street \, Lancaster\, PA\, 17603\, United States
CATEGORIES:Application Deadline
GEO:40.0398934;-76.3060455
X-APPLE-STRUCTURED-LOCATION;VALUE=URI;X-ADDRESS=Binns Park 100 Block of North Queen Street  Lancaster PA 17603 United States;X-APPLE-RADIUS=500;X-TITLE=100 Block of North Queen Street:geo:-76.3060455,40.0398934
END:VEVENT
BEGIN:VEVENT
DTSTART;VALUE=DATE:20160205
DTEND;VALUE=DATE:20160206
DTSTAMP:20260422T034151
CREATED:20160212T193625Z
LAST-MODIFIED:20160212T193625Z
UID:10000474-1454630400-1454716799@assetspa.org
SUMMARY:Applications due for Business Start-Up Learning Circle
DESCRIPTION:
URL:https://assetspa.org/event/applications-due-for-business-start-up-learning-circle/
LOCATION:Binns Park\, 100 Block of North Queen Street \, Lancaster\, PA\, 17603\, United States
CATEGORIES:Application Deadline
GEO:40.0398934;-76.3060455
X-APPLE-STRUCTURED-LOCATION;VALUE=URI;X-ADDRESS=Binns Park 100 Block of North Queen Street  Lancaster PA 17603 United States;X-APPLE-RADIUS=500;X-TITLE=100 Block of North Queen Street:geo:-76.3060455,40.0398934
END:VEVENT
END:VCALENDAR