BEGIN:VCALENDAR
VERSION:2.0
PRODID:-//ASSETS - ECPv6.15.20//NONSGML v1.0//EN
CALSCALE:GREGORIAN
METHOD:PUBLISH
X-ORIGINAL-URL:https://assetspa.org
X-WR-CALDESC:Events for ASSETS
REFRESH-INTERVAL;VALUE=DURATION:PT1H
X-Robots-Tag:noindex
X-PUBLISHED-TTL:PT1H
BEGIN:VTIMEZONE
TZID:America/New_York
BEGIN:DAYLIGHT
TZOFFSETFROM:-0500
TZOFFSETTO:-0400
TZNAME:EDT
DTSTART:20150308T070000
END:DAYLIGHT
BEGIN:STANDARD
TZOFFSETFROM:-0400
TZOFFSETTO:-0500
TZNAME:EST
DTSTART:20151101T060000
END:STANDARD
BEGIN:DAYLIGHT
TZOFFSETFROM:-0500
TZOFFSETTO:-0400
TZNAME:EDT
DTSTART:20160313T070000
END:DAYLIGHT
BEGIN:STANDARD
TZOFFSETFROM:-0400
TZOFFSETTO:-0500
TZNAME:EST
DTSTART:20161106T060000
END:STANDARD
BEGIN:DAYLIGHT
TZOFFSETFROM:-0500
TZOFFSETTO:-0400
TZNAME:EDT
DTSTART:20170312T070000
END:DAYLIGHT
BEGIN:STANDARD
TZOFFSETFROM:-0400
TZOFFSETTO:-0500
TZNAME:EST
DTSTART:20171105T060000
END:STANDARD
END:VTIMEZONE
BEGIN:VEVENT
DTSTART;TZID=America/New_York:20161201T180000
DTEND;TZID=America/New_York:20161201T210000
DTSTAMP:20260421T154136
CREATED:20161010T140939Z
LAST-MODIFIED:20161010T140939Z
UID:10000562-1480615200-1480626000@assetspa.org
SUMMARY:First Thursday Latino
DESCRIPTION:
URL:https://assetspa.org/event/first-thursday-latino/
LOCATION:Binns Park\, 100 Block of North Queen Street \, Lancaster\, PA\, 17603\, United States
CATEGORIES:Other Public Event
GEO:40.0398934;-76.3060455
X-APPLE-STRUCTURED-LOCATION;VALUE=URI;X-ADDRESS=Binns Park 100 Block of North Queen Street  Lancaster PA 17603 United States;X-APPLE-RADIUS=500;X-TITLE=100 Block of North Queen Street:geo:-76.3060455,40.0398934
END:VEVENT
BEGIN:VEVENT
DTSTART;TZID=America/New_York:20161122T180000
DTEND;TZID=America/New_York:20161122T210000
DTSTAMP:20260421T154136
CREATED:20160801T140442Z
LAST-MODIFIED:20160801T140442Z
UID:10000549-1479837600-1479848400@assetspa.org
SUMMARY:Business Start-up Learning Circle
DESCRIPTION:
URL:https://assetspa.org/event/business-start-up-learning-circl/2016-11-22/
LOCATION:Binns Park\, 100 Block of North Queen Street \, Lancaster\, PA\, 17603\, United States
CATEGORIES:Closed Events,Women's Business Center Summer Series
GEO:40.0398934;-76.3060455
X-APPLE-STRUCTURED-LOCATION;VALUE=URI;X-ADDRESS=Binns Park 100 Block of North Queen Street  Lancaster PA 17603 United States;X-APPLE-RADIUS=500;X-TITLE=100 Block of North Queen Street:geo:-76.3060455,40.0398934
END:VEVENT
BEGIN:VEVENT
DTSTART;VALUE=DATE:20161118
DTEND;VALUE=DATE:20161119
DTSTAMP:20260421T154136
CREATED:20160212T202329Z
LAST-MODIFIED:20160212T202329Z
UID:10000488-1479427200-1479513599@assetspa.org
SUMMARY:The Extraordinary Give
DESCRIPTION:Help support ASSETS during this 24-hour on-line giving event! The direct link to ASSETS’ giving page is https://extragive.org//designee/assets.
URL:https://assetspa.org/event/the-extraordinary-give/
LOCATION:Binns Park\, 100 Block of North Queen Street \, Lancaster\, PA\, 17603\, United States
CATEGORIES:Other Public Event,Extraordinary Give
GEO:40.0398934;-76.3060455
X-APPLE-STRUCTURED-LOCATION;VALUE=URI;X-ADDRESS=Binns Park 100 Block of North Queen Street  Lancaster PA 17603 United States;X-APPLE-RADIUS=500;X-TITLE=100 Block of North Queen Street:geo:-76.3060455,40.0398934
END:VEVENT
BEGIN:VEVENT
DTSTART;TZID=America/New_York:20161115T180000
DTEND;TZID=America/New_York:20161115T210000
DTSTAMP:20260421T154136
CREATED:20160801T140442Z
LAST-MODIFIED:20160801T140442Z
UID:10000548-1479232800-1479243600@assetspa.org
SUMMARY:Business Start-up Learning Circle
DESCRIPTION:
URL:https://assetspa.org/event/business-start-up-learning-circl/2016-11-15/
LOCATION:Binns Park\, 100 Block of North Queen Street \, Lancaster\, PA\, 17603\, United States
CATEGORIES:Closed Events,Women's Business Center Summer Series
GEO:40.0398934;-76.3060455
X-APPLE-STRUCTURED-LOCATION;VALUE=URI;X-ADDRESS=Binns Park 100 Block of North Queen Street  Lancaster PA 17603 United States;X-APPLE-RADIUS=500;X-TITLE=100 Block of North Queen Street:geo:-76.3060455,40.0398934
END:VEVENT
BEGIN:VEVENT
DTSTART;TZID=America/New_York:20161108T180000
DTEND;TZID=America/New_York:20161108T210000
DTSTAMP:20260421T154136
CREATED:20160801T140442Z
LAST-MODIFIED:20160801T140442Z
UID:10000547-1478628000-1478638800@assetspa.org
SUMMARY:Business Start-up Learning Circle
DESCRIPTION:
URL:https://assetspa.org/event/business-start-up-learning-circl/2016-11-08/
LOCATION:Binns Park\, 100 Block of North Queen Street \, Lancaster\, PA\, 17603\, United States
CATEGORIES:Closed Events,Women's Business Center Summer Series
GEO:40.0398934;-76.3060455
X-APPLE-STRUCTURED-LOCATION;VALUE=URI;X-ADDRESS=Binns Park 100 Block of North Queen Street  Lancaster PA 17603 United States;X-APPLE-RADIUS=500;X-TITLE=100 Block of North Queen Street:geo:-76.3060455,40.0398934
END:VEVENT
BEGIN:VEVENT
DTSTART;TZID=America/New_York:20161101T180000
DTEND;TZID=America/New_York:20161101T210000
DTSTAMP:20260421T154136
CREATED:20160801T140442Z
LAST-MODIFIED:20160801T140442Z
UID:10000546-1478023200-1478034000@assetspa.org
SUMMARY:Business Start-up Learning Circle
DESCRIPTION:
URL:https://assetspa.org/event/business-start-up-learning-circl/2016-11-01/
LOCATION:Binns Park\, 100 Block of North Queen Street \, Lancaster\, PA\, 17603\, United States
CATEGORIES:Closed Events,Women's Business Center Summer Series
GEO:40.0398934;-76.3060455
X-APPLE-STRUCTURED-LOCATION;VALUE=URI;X-ADDRESS=Binns Park 100 Block of North Queen Street  Lancaster PA 17603 United States;X-APPLE-RADIUS=500;X-TITLE=100 Block of North Queen Street:geo:-76.3060455,40.0398934
END:VEVENT
BEGIN:VEVENT
DTSTART;TZID=America/New_York:20161101T170000
DTEND;TZID=America/New_York:20161101T190000
DTSTAMP:20260421T154136
CREATED:20161007T152107Z
LAST-MODIFIED:20161007T152107Z
UID:10000560-1478019600-1478026800@assetspa.org
SUMMARY:Lancaster Chamber Diversity Mixer
DESCRIPTION:As a partner of the event\, ASSETS would like to invite you to The Diversity Mixer for an opportunity to build relationships with fellow local business professionals and organizations committed to building a diverse and inclusive local workforce. Network with community-minded professionals\, interact with organizations that can help your company successfully nurture a diverse and inclusive internal culture\, enjoy complimentary hors d’oeuvres and drinks and purchase additional fair from local food trucks.
URL:https://assetspa.org/event/lancaster-chamber-diversity-mixer/
LOCATION:Binns Park\, 100 Block of North Queen Street \, Lancaster\, PA\, 17603\, United States
CATEGORIES:Other Public Event
ORGANIZER;CN="The Lancaster Chamber of Commerce & Industry":MAILTO:pschober@lcci.com
GEO:40.0398934;-76.3060455
X-APPLE-STRUCTURED-LOCATION;VALUE=URI;X-ADDRESS=Binns Park 100 Block of North Queen Street  Lancaster PA 17603 United States;X-APPLE-RADIUS=500;X-TITLE=100 Block of North Queen Street:geo:-76.3060455,40.0398934
END:VEVENT
BEGIN:VEVENT
DTSTART;TZID=America/New_York:20161025T180000
DTEND;TZID=America/New_York:20161025T210000
DTSTAMP:20260421T154136
CREATED:20160801T140442Z
LAST-MODIFIED:20160801T140442Z
UID:10000545-1477418400-1477429200@assetspa.org
SUMMARY:Business Start-up Learning Circle
DESCRIPTION:
URL:https://assetspa.org/event/business-start-up-learning-circl/2016-10-25/
LOCATION:Binns Park\, 100 Block of North Queen Street \, Lancaster\, PA\, 17603\, United States
CATEGORIES:Closed Events,Women's Business Center Summer Series
GEO:40.0398934;-76.3060455
X-APPLE-STRUCTURED-LOCATION;VALUE=URI;X-ADDRESS=Binns Park 100 Block of North Queen Street  Lancaster PA 17603 United States;X-APPLE-RADIUS=500;X-TITLE=100 Block of North Queen Street:geo:-76.3060455,40.0398934
END:VEVENT
BEGIN:VEVENT
DTSTART;TZID=America/New_York:20161018T180000
DTEND;TZID=America/New_York:20161018T210000
DTSTAMP:20260421T154136
CREATED:20160801T140442Z
LAST-MODIFIED:20160801T140442Z
UID:10000544-1476813600-1476824400@assetspa.org
SUMMARY:Business Start-up Learning Circle
DESCRIPTION:
URL:https://assetspa.org/event/business-start-up-learning-circl/2016-10-18/
LOCATION:Binns Park\, 100 Block of North Queen Street \, Lancaster\, PA\, 17603\, United States
CATEGORIES:Closed Events,Women's Business Center Summer Series
GEO:40.0398934;-76.3060455
X-APPLE-STRUCTURED-LOCATION;VALUE=URI;X-ADDRESS=Binns Park 100 Block of North Queen Street  Lancaster PA 17603 United States;X-APPLE-RADIUS=500;X-TITLE=100 Block of North Queen Street:geo:-76.3060455,40.0398934
END:VEVENT
BEGIN:VEVENT
DTSTART;TZID=America/New_York:20161011T180000
DTEND;TZID=America/New_York:20161011T210000
DTSTAMP:20260421T154136
CREATED:20160801T140442Z
LAST-MODIFIED:20160801T140442Z
UID:10000543-1476208800-1476219600@assetspa.org
SUMMARY:Business Start-up Learning Circle
DESCRIPTION:
URL:https://assetspa.org/event/business-start-up-learning-circl/2016-10-11/
LOCATION:Binns Park\, 100 Block of North Queen Street \, Lancaster\, PA\, 17603\, United States
CATEGORIES:Closed Events,Women's Business Center Summer Series
GEO:40.0398934;-76.3060455
X-APPLE-STRUCTURED-LOCATION;VALUE=URI;X-ADDRESS=Binns Park 100 Block of North Queen Street  Lancaster PA 17603 United States;X-APPLE-RADIUS=500;X-TITLE=100 Block of North Queen Street:geo:-76.3060455,40.0398934
END:VEVENT
BEGIN:VEVENT
DTSTART;TZID=America/New_York:20161004T180000
DTEND;TZID=America/New_York:20161004T210000
DTSTAMP:20260421T154136
CREATED:20160801T140442Z
LAST-MODIFIED:20160801T140442Z
UID:10000542-1475604000-1475614800@assetspa.org
SUMMARY:Business Start-up Learning Circle
DESCRIPTION:
URL:https://assetspa.org/event/business-start-up-learning-circl/2016-10-04/
LOCATION:Binns Park\, 100 Block of North Queen Street \, Lancaster\, PA\, 17603\, United States
CATEGORIES:Closed Events,Women's Business Center Summer Series
GEO:40.0398934;-76.3060455
X-APPLE-STRUCTURED-LOCATION;VALUE=URI;X-ADDRESS=Binns Park 100 Block of North Queen Street  Lancaster PA 17603 United States;X-APPLE-RADIUS=500;X-TITLE=100 Block of North Queen Street:geo:-76.3060455,40.0398934
END:VEVENT
BEGIN:VEVENT
DTSTART;TZID=America/New_York:20160927T180000
DTEND;TZID=America/New_York:20160927T210000
DTSTAMP:20260421T154136
CREATED:20160801T140442Z
LAST-MODIFIED:20160801T140442Z
UID:10000541-1474999200-1475010000@assetspa.org
SUMMARY:Business Start-up Learning Circle
DESCRIPTION:
URL:https://assetspa.org/event/business-start-up-learning-circl/2016-09-27/
LOCATION:Binns Park\, 100 Block of North Queen Street \, Lancaster\, PA\, 17603\, United States
CATEGORIES:Closed Events,Women's Business Center Summer Series
GEO:40.0398934;-76.3060455
X-APPLE-STRUCTURED-LOCATION;VALUE=URI;X-ADDRESS=Binns Park 100 Block of North Queen Street  Lancaster PA 17603 United States;X-APPLE-RADIUS=500;X-TITLE=100 Block of North Queen Street:geo:-76.3060455,40.0398934
END:VEVENT
BEGIN:VEVENT
DTSTART;TZID=America/New_York:20160920T180000
DTEND;TZID=America/New_York:20160920T210000
DTSTAMP:20260421T154136
CREATED:20160801T140442Z
LAST-MODIFIED:20160801T140442Z
UID:10000540-1474394400-1474405200@assetspa.org
SUMMARY:Business Start-up Learning Circle
DESCRIPTION:
URL:https://assetspa.org/event/business-start-up-learning-circl/2016-09-20/
LOCATION:Binns Park\, 100 Block of North Queen Street \, Lancaster\, PA\, 17603\, United States
CATEGORIES:Closed Events,Women's Business Center Summer Series
GEO:40.0398934;-76.3060455
X-APPLE-STRUCTURED-LOCATION;VALUE=URI;X-ADDRESS=Binns Park 100 Block of North Queen Street  Lancaster PA 17603 United States;X-APPLE-RADIUS=500;X-TITLE=100 Block of North Queen Street:geo:-76.3060455,40.0398934
END:VEVENT
BEGIN:VEVENT
DTSTART;TZID=America/New_York:20160831T180000
DTEND;TZID=America/New_York:20160831T193000
DTSTAMP:20260421T154136
CREATED:20160523T172421Z
LAST-MODIFIED:20160523T172421Z
UID:10000537-1472666400-1472671800@assetspa.org
SUMMARY:Marketing Workshop
DESCRIPTION:Women’s Business Center Summer Series \nAre you an entrepreneur looking to launch or grow your business? The Women’s Business Center at ASSETS is inviting you this summer to experience a series of six workshops that dive into the technical side of entrepreneurship: funding\, marketing\, exporting\, government contracting\, and legal issues. Twice a month\, the WBC will run seminars\, both in English and Spanish\, which will give you the tools and knowledge necessary to take your business to the next level.
URL:https://assetspa.org/event/marketing-workshop/
LOCATION:Binns Park\, 100 Block of North Queen Street \, Lancaster\, PA\, 17603\, United States
CATEGORIES:Other Public Event,Women's Business Center Summer Series
GEO:40.0398934;-76.3060455
X-APPLE-STRUCTURED-LOCATION;VALUE=URI;X-ADDRESS=Binns Park 100 Block of North Queen Street  Lancaster PA 17603 United States;X-APPLE-RADIUS=500;X-TITLE=100 Block of North Queen Street:geo:-76.3060455,40.0398934
END:VEVENT
BEGIN:VEVENT
DTSTART;VALUE=DATE:20160824
DTEND;VALUE=DATE:20160915
DTSTAMP:20260421T154136
CREATED:20160212T202114Z
LAST-MODIFIED:20160212T202114Z
UID:10000486-1471996800-1473897599@assetspa.org
SUMMARY:Great Social Enterprise Pitch Crowfunding
DESCRIPTION:
URL:https://assetspa.org/event/great-social-enterprise-pitch-crowfunding/
LOCATION:Binns Park\, 100 Block of North Queen Street \, Lancaster\, PA\, 17603\, United States
CATEGORIES:Great Social Enterprise Pitch
GEO:40.0398934;-76.3060455
X-APPLE-STRUCTURED-LOCATION;VALUE=URI;X-ADDRESS=Binns Park 100 Block of North Queen Street  Lancaster PA 17603 United States;X-APPLE-RADIUS=500;X-TITLE=100 Block of North Queen Street:geo:-76.3060455,40.0398934
END:VEVENT
BEGIN:VEVENT
DTSTART;VALUE=DATE:20160824
DTEND;VALUE=DATE:20160825
DTSTAMP:20260421T154136
CREATED:20160212T202035Z
LAST-MODIFIED:20160212T202035Z
UID:10000485-1471996800-1472083199@assetspa.org
SUMMARY:Great Social Enterprise Pitch Crowdfunding Launch Party
DESCRIPTION:
URL:https://assetspa.org/event/great-social-enterprise-pitch-crowdfunding-launch-party/
LOCATION:Binns Park\, 100 Block of North Queen Street \, Lancaster\, PA\, 17603\, United States
CATEGORIES:Great Social Enterprise Pitch
GEO:40.0398934;-76.3060455
X-APPLE-STRUCTURED-LOCATION;VALUE=URI;X-ADDRESS=Binns Park 100 Block of North Queen Street  Lancaster PA 17603 United States;X-APPLE-RADIUS=500;X-TITLE=100 Block of North Queen Street:geo:-76.3060455,40.0398934
END:VEVENT
BEGIN:VEVENT
DTSTART;TZID=America/New_York:20160816T180000
DTEND;TZID=America/New_York:20160816T210000
DTSTAMP:20260421T154136
CREATED:20160212T212320Z
LAST-MODIFIED:20160212T212320Z
UID:10000524-1471370400-1471381200@assetspa.org
SUMMARY:Great Social Enterprise Pitch - Idea Incubators
DESCRIPTION:
URL:https://assetspa.org/event/great-social-enterprise-pitch-idea-incubators/2016-08-16/
LOCATION:Binns Park\, 100 Block of North Queen Street \, Lancaster\, PA\, 17603\, United States
CATEGORIES:Closed Events
GEO:40.0398934;-76.3060455
X-APPLE-STRUCTURED-LOCATION;VALUE=URI;X-ADDRESS=Binns Park 100 Block of North Queen Street  Lancaster PA 17603 United States;X-APPLE-RADIUS=500;X-TITLE=100 Block of North Queen Street:geo:-76.3060455,40.0398934
END:VEVENT
BEGIN:VEVENT
DTSTART;TZID=America/New_York:20160810T180000
DTEND;TZID=America/New_York:20160810T193000
DTSTAMP:20260421T154136
CREATED:20160512T184740Z
LAST-MODIFIED:20160512T184740Z
UID:10000531-1470852000-1470857400@assetspa.org
SUMMARY:Exporting Workshop
DESCRIPTION:Women’s Business Center Summer Series \nAre you an entrepreneur looking to launch or grow your business? The Women’s Business Center at ASSETS is inviting you this summer to experience a series of six workshops that dive into the technical side of entrepreneurship: funding\, marketing\, exporting\, government contracting\, and legal issues. Twice a month\, the WBC will run seminars\, both in English and Spanish\, which will give you the tools and knowledge necessary to take your business to the next level.
URL:https://assetspa.org/event/exporting/
LOCATION:Binns Park\, 100 Block of North Queen Street \, Lancaster\, PA\, 17603\, United States
CATEGORIES:Other Public Event,Women's Business Center Summer Series
GEO:40.0398934;-76.3060455
X-APPLE-STRUCTURED-LOCATION;VALUE=URI;X-ADDRESS=Binns Park 100 Block of North Queen Street  Lancaster PA 17603 United States;X-APPLE-RADIUS=500;X-TITLE=100 Block of North Queen Street:geo:-76.3060455,40.0398934
END:VEVENT
BEGIN:VEVENT
DTSTART;TZID=America/New_York:20160809T180000
DTEND;TZID=America/New_York:20160809T210000
DTSTAMP:20260421T154136
CREATED:20160212T212320Z
LAST-MODIFIED:20160212T212320Z
UID:10000523-1470765600-1470776400@assetspa.org
SUMMARY:Great Social Enterprise Pitch - Idea Incubators
DESCRIPTION:
URL:https://assetspa.org/event/great-social-enterprise-pitch-idea-incubators/2016-08-09/
LOCATION:Binns Park\, 100 Block of North Queen Street \, Lancaster\, PA\, 17603\, United States
CATEGORIES:Closed Events
GEO:40.0398934;-76.3060455
X-APPLE-STRUCTURED-LOCATION;VALUE=URI;X-ADDRESS=Binns Park 100 Block of North Queen Street  Lancaster PA 17603 United States;X-APPLE-RADIUS=500;X-TITLE=100 Block of North Queen Street:geo:-76.3060455,40.0398934
END:VEVENT
BEGIN:VEVENT
DTSTART;TZID=America/New_York:20160803T080000
DTEND;TZID=America/New_York:20160803T093000
DTSTAMP:20260421T154136
CREATED:20160722T160434Z
LAST-MODIFIED:20160722T160434Z
UID:10000539-1470211200-1470216600@assetspa.org
SUMMARY:Sustainability Roundtable Breakfast
DESCRIPTION:Do you run a community benefit organization or know someone who does?  \nDo you want to make sure your organization makes an impact AND a profit?  \n \nJoin the Nonprofit Resource Network & ASSETS for a free informational session focused on nonprofit sustainability. \n \nThis breakfast is designed specifically for non-profit organization\, but will contain information applicable to anyone running a small business or\ncommunity benefit organization!\n  \nClick here to register!
URL:https://assetspa.org/event/sustainability-roundtable-breakfast/
LOCATION:Binns Park\, 100 Block of North Queen Street \, Lancaster\, PA\, 17603\, United States
GEO:40.0398934;-76.3060455
X-APPLE-STRUCTURED-LOCATION;VALUE=URI;X-ADDRESS=Binns Park 100 Block of North Queen Street  Lancaster PA 17603 United States;X-APPLE-RADIUS=500;X-TITLE=100 Block of North Queen Street:geo:-76.3060455,40.0398934
END:VEVENT
BEGIN:VEVENT
DTSTART;TZID=America/New_York:20160802T180000
DTEND;TZID=America/New_York:20160802T210000
DTSTAMP:20260421T154136
CREATED:20160212T212320Z
LAST-MODIFIED:20160212T212320Z
UID:10000522-1470160800-1470171600@assetspa.org
SUMMARY:Great Social Enterprise Pitch - Idea Incubators
DESCRIPTION:
URL:https://assetspa.org/event/great-social-enterprise-pitch-idea-incubators/2016-08-02/
LOCATION:Binns Park\, 100 Block of North Queen Street \, Lancaster\, PA\, 17603\, United States
CATEGORIES:Closed Events
GEO:40.0398934;-76.3060455
X-APPLE-STRUCTURED-LOCATION;VALUE=URI;X-ADDRESS=Binns Park 100 Block of North Queen Street  Lancaster PA 17603 United States;X-APPLE-RADIUS=500;X-TITLE=100 Block of North Queen Street:geo:-76.3060455,40.0398934
END:VEVENT
BEGIN:VEVENT
DTSTART;TZID=America/New_York:20160727T180000
DTEND;TZID=America/New_York:20160727T193000
DTSTAMP:20260421T154136
CREATED:20160512T184657Z
LAST-MODIFIED:20160512T184657Z
UID:10000530-1469642400-1469647800@assetspa.org
SUMMARY:Government Contracting Workshop
DESCRIPTION:Women’s Business Center Summer Series \nAre you an entrepreneur looking to launch or grow your business? The Women’s Business Center at ASSETS is inviting you this summer to experience a series of six workshops that dive into the technical side of entrepreneurship: funding\, marketing\, exporting\, government contracting\, and legal issues. Twice a month\, the WBC will run seminars\, both in English and Spanish\, which will give you the tools and knowledge necessary to take your business to the next level.
URL:https://assetspa.org/event/government-contracting/
LOCATION:Binns Park\, 100 Block of North Queen Street \, Lancaster\, PA\, 17603\, United States
CATEGORIES:Other Public Event,Women's Business Center Summer Series
GEO:40.0398934;-76.3060455
X-APPLE-STRUCTURED-LOCATION;VALUE=URI;X-ADDRESS=Binns Park 100 Block of North Queen Street  Lancaster PA 17603 United States;X-APPLE-RADIUS=500;X-TITLE=100 Block of North Queen Street:geo:-76.3060455,40.0398934
END:VEVENT
BEGIN:VEVENT
DTSTART;TZID=America/New_York:20160726T180000
DTEND;TZID=America/New_York:20160726T210000
DTSTAMP:20260421T154136
CREATED:20160212T212320Z
LAST-MODIFIED:20160212T212320Z
UID:10000521-1469556000-1469566800@assetspa.org
SUMMARY:Great Social Enterprise Pitch - Idea Incubators
DESCRIPTION:
URL:https://assetspa.org/event/great-social-enterprise-pitch-idea-incubators/2016-07-26/
LOCATION:Binns Park\, 100 Block of North Queen Street \, Lancaster\, PA\, 17603\, United States
CATEGORIES:Closed Events
GEO:40.0398934;-76.3060455
X-APPLE-STRUCTURED-LOCATION;VALUE=URI;X-ADDRESS=Binns Park 100 Block of North Queen Street  Lancaster PA 17603 United States;X-APPLE-RADIUS=500;X-TITLE=100 Block of North Queen Street:geo:-76.3060455,40.0398934
END:VEVENT
BEGIN:VEVENT
DTSTART;TZID=America/New_York:20160719T180000
DTEND;TZID=America/New_York:20160719T210000
DTSTAMP:20260421T154136
CREATED:20160212T212320Z
LAST-MODIFIED:20160212T212320Z
UID:10000520-1468951200-1468962000@assetspa.org
SUMMARY:Great Social Enterprise Pitch - Idea Incubators
DESCRIPTION:
URL:https://assetspa.org/event/great-social-enterprise-pitch-idea-incubators/2016-07-19/
LOCATION:Binns Park\, 100 Block of North Queen Street \, Lancaster\, PA\, 17603\, United States
CATEGORIES:Closed Events
GEO:40.0398934;-76.3060455
X-APPLE-STRUCTURED-LOCATION;VALUE=URI;X-ADDRESS=Binns Park 100 Block of North Queen Street  Lancaster PA 17603 United States;X-APPLE-RADIUS=500;X-TITLE=100 Block of North Queen Street:geo:-76.3060455,40.0398934
END:VEVENT
BEGIN:VEVENT
DTSTART;TZID=America/New_York:20160713T180000
DTEND;TZID=America/New_York:20160713T193000
DTSTAMP:20260421T154136
CREATED:20160512T184611Z
LAST-MODIFIED:20160512T184611Z
UID:10000529-1468432800-1468438200@assetspa.org
SUMMARY:Business Legal Issues Workshop
DESCRIPTION:Women’s Business Center Summer Series \nAre you an entrepreneur looking to launch or grow your business? The Women’s Business Center at ASSETS is inviting you this summer to experience a series of six workshops that dive into the technical side of entrepreneurship: funding\, marketing\, exporting\, government contracting\, and legal issues. Twice a month\, the WBC will run seminars\, both in English and Spanish\, which will give you the tools and knowledge necessary to take your business to the next level.
URL:https://assetspa.org/event/legal-issues/
LOCATION:Binns Park\, 100 Block of North Queen Street \, Lancaster\, PA\, 17603\, United States
CATEGORIES:Other Public Event,Women's Business Center Summer Series
GEO:40.0398934;-76.3060455
X-APPLE-STRUCTURED-LOCATION;VALUE=URI;X-ADDRESS=Binns Park 100 Block of North Queen Street  Lancaster PA 17603 United States;X-APPLE-RADIUS=500;X-TITLE=100 Block of North Queen Street:geo:-76.3060455,40.0398934
END:VEVENT
BEGIN:VEVENT
DTSTART;TZID=America/New_York:20160712T180000
DTEND;TZID=America/New_York:20160712T210000
DTSTAMP:20260421T154136
CREATED:20160212T212320Z
LAST-MODIFIED:20160212T212320Z
UID:10000519-1468346400-1468357200@assetspa.org
SUMMARY:Great Social Enterprise Pitch - Idea Incubators
DESCRIPTION:
URL:https://assetspa.org/event/great-social-enterprise-pitch-idea-incubators/2016-07-12/
LOCATION:Binns Park\, 100 Block of North Queen Street \, Lancaster\, PA\, 17603\, United States
CATEGORIES:Closed Events
GEO:40.0398934;-76.3060455
X-APPLE-STRUCTURED-LOCATION;VALUE=URI;X-ADDRESS=Binns Park 100 Block of North Queen Street  Lancaster PA 17603 United States;X-APPLE-RADIUS=500;X-TITLE=100 Block of North Queen Street:geo:-76.3060455,40.0398934
END:VEVENT
BEGIN:VEVENT
DTSTART;TZID=America/New_York:20160705T180000
DTEND;TZID=America/New_York:20160705T210000
DTSTAMP:20260421T154136
CREATED:20160212T212320Z
LAST-MODIFIED:20160212T212320Z
UID:10000518-1467741600-1467752400@assetspa.org
SUMMARY:Great Social Enterprise Pitch - Idea Incubators
DESCRIPTION:
URL:https://assetspa.org/event/great-social-enterprise-pitch-idea-incubators/2016-07-05/
LOCATION:Binns Park\, 100 Block of North Queen Street \, Lancaster\, PA\, 17603\, United States
CATEGORIES:Closed Events
GEO:40.0398934;-76.3060455
X-APPLE-STRUCTURED-LOCATION;VALUE=URI;X-ADDRESS=Binns Park 100 Block of North Queen Street  Lancaster PA 17603 United States;X-APPLE-RADIUS=500;X-TITLE=100 Block of North Queen Street:geo:-76.3060455,40.0398934
END:VEVENT
BEGIN:VEVENT
DTSTART;TZID=America/New_York:20160629T180000
DTEND;TZID=America/New_York:20160629T193000
DTSTAMP:20260421T154136
CREATED:20160512T184448Z
LAST-MODIFIED:20160512T184448Z
UID:10000528-1467223200-1467228600@assetspa.org
SUMMARY:Find your Funding
DESCRIPTION:Women’s Business Center Summer Series \nAre you an entrepreneur looking to launch or grow your business? The Women’s Business Center at ASSETS is inviting you this summer to experience a series of six workshops that dive into the technical side of entrepreneurship: funding\, marketing\, exporting\, government contracting\, and legal issues. Twice a month\, the WBC will run seminars\, both in English and Spanish\, which will give you the tools and knowledge necessary to take your business to the next level.
URL:https://assetspa.org/event/finding-your-funding/
LOCATION:Binns Park\, 100 Block of North Queen Street \, Lancaster\, PA\, 17603\, United States
CATEGORIES:Other Public Event,Women's Business Center Summer Series
GEO:40.0398934;-76.3060455
X-APPLE-STRUCTURED-LOCATION;VALUE=URI;X-ADDRESS=Binns Park 100 Block of North Queen Street  Lancaster PA 17603 United States;X-APPLE-RADIUS=500;X-TITLE=100 Block of North Queen Street:geo:-76.3060455,40.0398934
END:VEVENT
BEGIN:VEVENT
DTSTART;TZID=America/New_York:20160628T180000
DTEND;TZID=America/New_York:20160628T210000
DTSTAMP:20260421T154136
CREATED:20160212T212320Z
LAST-MODIFIED:20160212T212320Z
UID:10000517-1467136800-1467147600@assetspa.org
SUMMARY:Great Social Enterprise Pitch - Idea Incubators
DESCRIPTION:
URL:https://assetspa.org/event/great-social-enterprise-pitch-idea-incubators/2016-06-28/
LOCATION:Binns Park\, 100 Block of North Queen Street \, Lancaster\, PA\, 17603\, United States
CATEGORIES:Closed Events
GEO:40.0398934;-76.3060455
X-APPLE-STRUCTURED-LOCATION;VALUE=URI;X-ADDRESS=Binns Park 100 Block of North Queen Street  Lancaster PA 17603 United States;X-APPLE-RADIUS=500;X-TITLE=100 Block of North Queen Street:geo:-76.3060455,40.0398934
END:VEVENT
BEGIN:VEVENT
DTSTART;TZID=America/New_York:20160621T180000
DTEND;TZID=America/New_York:20160621T210000
DTSTAMP:20260421T154136
CREATED:20160212T212320Z
LAST-MODIFIED:20160212T212320Z
UID:10000516-1466532000-1466542800@assetspa.org
SUMMARY:Great Social Enterprise Pitch - Idea Incubators
DESCRIPTION:
URL:https://assetspa.org/event/great-social-enterprise-pitch-idea-incubators/2016-06-21/
LOCATION:Binns Park\, 100 Block of North Queen Street \, Lancaster\, PA\, 17603\, United States
CATEGORIES:Closed Events
GEO:40.0398934;-76.3060455
X-APPLE-STRUCTURED-LOCATION;VALUE=URI;X-ADDRESS=Binns Park 100 Block of North Queen Street  Lancaster PA 17603 United States;X-APPLE-RADIUS=500;X-TITLE=100 Block of North Queen Street:geo:-76.3060455,40.0398934
END:VEVENT
END:VCALENDAR