BEGIN:VCALENDAR
VERSION:2.0
PRODID:-//ASSETS - ECPv6.15.20//NONSGML v1.0//EN
CALSCALE:GREGORIAN
METHOD:PUBLISH
X-WR-CALNAME:ASSETS
X-ORIGINAL-URL:https://assetspa.org
X-WR-CALDESC:Events for ASSETS
REFRESH-INTERVAL;VALUE=DURATION:PT1H
X-Robots-Tag:noindex
X-PUBLISHED-TTL:PT1H
BEGIN:VTIMEZONE
TZID:America/New_York
BEGIN:DAYLIGHT
TZOFFSETFROM:-0500
TZOFFSETTO:-0400
TZNAME:EDT
DTSTART:20150308T070000
END:DAYLIGHT
BEGIN:STANDARD
TZOFFSETFROM:-0400
TZOFFSETTO:-0500
TZNAME:EST
DTSTART:20151101T060000
END:STANDARD
BEGIN:DAYLIGHT
TZOFFSETFROM:-0500
TZOFFSETTO:-0400
TZNAME:EDT
DTSTART:20160313T070000
END:DAYLIGHT
BEGIN:STANDARD
TZOFFSETFROM:-0400
TZOFFSETTO:-0500
TZNAME:EST
DTSTART:20161106T060000
END:STANDARD
BEGIN:DAYLIGHT
TZOFFSETFROM:-0500
TZOFFSETTO:-0400
TZNAME:EDT
DTSTART:20170312T070000
END:DAYLIGHT
BEGIN:STANDARD
TZOFFSETFROM:-0400
TZOFFSETTO:-0500
TZNAME:EST
DTSTART:20171105T060000
END:STANDARD
END:VTIMEZONE
BEGIN:VEVENT
DTSTART;TZID=America/New_York:20160816T180000
DTEND;TZID=America/New_York:20160816T210000
DTSTAMP:20260421T190552
CREATED:20160212T212320Z
LAST-MODIFIED:20160212T212320Z
UID:10000524-1471370400-1471381200@assetspa.org
SUMMARY:Great Social Enterprise Pitch - Idea Incubators
DESCRIPTION:
URL:https://assetspa.org/event/great-social-enterprise-pitch-idea-incubators/2016-08-16/
LOCATION:Binns Park\, 100 Block of North Queen Street \, Lancaster\, PA\, 17603\, United States
CATEGORIES:Closed Events
GEO:40.0398934;-76.3060455
X-APPLE-STRUCTURED-LOCATION;VALUE=URI;X-ADDRESS=Binns Park 100 Block of North Queen Street  Lancaster PA 17603 United States;X-APPLE-RADIUS=500;X-TITLE=100 Block of North Queen Street:geo:-76.3060455,40.0398934
END:VEVENT
BEGIN:VEVENT
DTSTART;TZID=America/New_York:20160810T180000
DTEND;TZID=America/New_York:20160810T193000
DTSTAMP:20260421T190552
CREATED:20160512T184740Z
LAST-MODIFIED:20160512T184740Z
UID:10000531-1470852000-1470857400@assetspa.org
SUMMARY:Exporting Workshop
DESCRIPTION:Women’s Business Center Summer Series \nAre you an entrepreneur looking to launch or grow your business? The Women’s Business Center at ASSETS is inviting you this summer to experience a series of six workshops that dive into the technical side of entrepreneurship: funding\, marketing\, exporting\, government contracting\, and legal issues. Twice a month\, the WBC will run seminars\, both in English and Spanish\, which will give you the tools and knowledge necessary to take your business to the next level.
URL:https://assetspa.org/event/exporting/
LOCATION:Binns Park\, 100 Block of North Queen Street \, Lancaster\, PA\, 17603\, United States
CATEGORIES:Other Public Event,Women's Business Center Summer Series
GEO:40.0398934;-76.3060455
X-APPLE-STRUCTURED-LOCATION;VALUE=URI;X-ADDRESS=Binns Park 100 Block of North Queen Street  Lancaster PA 17603 United States;X-APPLE-RADIUS=500;X-TITLE=100 Block of North Queen Street:geo:-76.3060455,40.0398934
END:VEVENT
BEGIN:VEVENT
DTSTART;TZID=America/New_York:20160809T180000
DTEND;TZID=America/New_York:20160809T210000
DTSTAMP:20260421T190552
CREATED:20160212T212320Z
LAST-MODIFIED:20160212T212320Z
UID:10000523-1470765600-1470776400@assetspa.org
SUMMARY:Great Social Enterprise Pitch - Idea Incubators
DESCRIPTION:
URL:https://assetspa.org/event/great-social-enterprise-pitch-idea-incubators/2016-08-09/
LOCATION:Binns Park\, 100 Block of North Queen Street \, Lancaster\, PA\, 17603\, United States
CATEGORIES:Closed Events
GEO:40.0398934;-76.3060455
X-APPLE-STRUCTURED-LOCATION;VALUE=URI;X-ADDRESS=Binns Park 100 Block of North Queen Street  Lancaster PA 17603 United States;X-APPLE-RADIUS=500;X-TITLE=100 Block of North Queen Street:geo:-76.3060455,40.0398934
END:VEVENT
BEGIN:VEVENT
DTSTART;TZID=America/New_York:20160803T080000
DTEND;TZID=America/New_York:20160803T093000
DTSTAMP:20260421T190552
CREATED:20160722T160434Z
LAST-MODIFIED:20160722T160434Z
UID:10000539-1470211200-1470216600@assetspa.org
SUMMARY:Sustainability Roundtable Breakfast
DESCRIPTION:Do you run a community benefit organization or know someone who does?  \nDo you want to make sure your organization makes an impact AND a profit?  \n \nJoin the Nonprofit Resource Network & ASSETS for a free informational session focused on nonprofit sustainability. \n \nThis breakfast is designed specifically for non-profit organization\, but will contain information applicable to anyone running a small business or\ncommunity benefit organization!\n  \nClick here to register!
URL:https://assetspa.org/event/sustainability-roundtable-breakfast/
LOCATION:Binns Park\, 100 Block of North Queen Street \, Lancaster\, PA\, 17603\, United States
GEO:40.0398934;-76.3060455
X-APPLE-STRUCTURED-LOCATION;VALUE=URI;X-ADDRESS=Binns Park 100 Block of North Queen Street  Lancaster PA 17603 United States;X-APPLE-RADIUS=500;X-TITLE=100 Block of North Queen Street:geo:-76.3060455,40.0398934
END:VEVENT
BEGIN:VEVENT
DTSTART;TZID=America/New_York:20160802T180000
DTEND;TZID=America/New_York:20160802T210000
DTSTAMP:20260421T190552
CREATED:20160212T212320Z
LAST-MODIFIED:20160212T212320Z
UID:10000522-1470160800-1470171600@assetspa.org
SUMMARY:Great Social Enterprise Pitch - Idea Incubators
DESCRIPTION:
URL:https://assetspa.org/event/great-social-enterprise-pitch-idea-incubators/2016-08-02/
LOCATION:Binns Park\, 100 Block of North Queen Street \, Lancaster\, PA\, 17603\, United States
CATEGORIES:Closed Events
GEO:40.0398934;-76.3060455
X-APPLE-STRUCTURED-LOCATION;VALUE=URI;X-ADDRESS=Binns Park 100 Block of North Queen Street  Lancaster PA 17603 United States;X-APPLE-RADIUS=500;X-TITLE=100 Block of North Queen Street:geo:-76.3060455,40.0398934
END:VEVENT
BEGIN:VEVENT
DTSTART;TZID=America/New_York:20160727T180000
DTEND;TZID=America/New_York:20160727T193000
DTSTAMP:20260421T190552
CREATED:20160512T184657Z
LAST-MODIFIED:20160512T184657Z
UID:10000530-1469642400-1469647800@assetspa.org
SUMMARY:Government Contracting Workshop
DESCRIPTION:Women’s Business Center Summer Series \nAre you an entrepreneur looking to launch or grow your business? The Women’s Business Center at ASSETS is inviting you this summer to experience a series of six workshops that dive into the technical side of entrepreneurship: funding\, marketing\, exporting\, government contracting\, and legal issues. Twice a month\, the WBC will run seminars\, both in English and Spanish\, which will give you the tools and knowledge necessary to take your business to the next level.
URL:https://assetspa.org/event/government-contracting/
LOCATION:Binns Park\, 100 Block of North Queen Street \, Lancaster\, PA\, 17603\, United States
CATEGORIES:Other Public Event,Women's Business Center Summer Series
GEO:40.0398934;-76.3060455
X-APPLE-STRUCTURED-LOCATION;VALUE=URI;X-ADDRESS=Binns Park 100 Block of North Queen Street  Lancaster PA 17603 United States;X-APPLE-RADIUS=500;X-TITLE=100 Block of North Queen Street:geo:-76.3060455,40.0398934
END:VEVENT
BEGIN:VEVENT
DTSTART;TZID=America/New_York:20160726T180000
DTEND;TZID=America/New_York:20160726T210000
DTSTAMP:20260421T190552
CREATED:20160212T212320Z
LAST-MODIFIED:20160212T212320Z
UID:10000521-1469556000-1469566800@assetspa.org
SUMMARY:Great Social Enterprise Pitch - Idea Incubators
DESCRIPTION:
URL:https://assetspa.org/event/great-social-enterprise-pitch-idea-incubators/2016-07-26/
LOCATION:Binns Park\, 100 Block of North Queen Street \, Lancaster\, PA\, 17603\, United States
CATEGORIES:Closed Events
GEO:40.0398934;-76.3060455
X-APPLE-STRUCTURED-LOCATION;VALUE=URI;X-ADDRESS=Binns Park 100 Block of North Queen Street  Lancaster PA 17603 United States;X-APPLE-RADIUS=500;X-TITLE=100 Block of North Queen Street:geo:-76.3060455,40.0398934
END:VEVENT
BEGIN:VEVENT
DTSTART;TZID=America/New_York:20160719T180000
DTEND;TZID=America/New_York:20160719T210000
DTSTAMP:20260421T190552
CREATED:20160212T212320Z
LAST-MODIFIED:20160212T212320Z
UID:10000520-1468951200-1468962000@assetspa.org
SUMMARY:Great Social Enterprise Pitch - Idea Incubators
DESCRIPTION:
URL:https://assetspa.org/event/great-social-enterprise-pitch-idea-incubators/2016-07-19/
LOCATION:Binns Park\, 100 Block of North Queen Street \, Lancaster\, PA\, 17603\, United States
CATEGORIES:Closed Events
GEO:40.0398934;-76.3060455
X-APPLE-STRUCTURED-LOCATION;VALUE=URI;X-ADDRESS=Binns Park 100 Block of North Queen Street  Lancaster PA 17603 United States;X-APPLE-RADIUS=500;X-TITLE=100 Block of North Queen Street:geo:-76.3060455,40.0398934
END:VEVENT
BEGIN:VEVENT
DTSTART;TZID=America/New_York:20160713T180000
DTEND;TZID=America/New_York:20160713T193000
DTSTAMP:20260421T190552
CREATED:20160512T184611Z
LAST-MODIFIED:20160512T184611Z
UID:10000529-1468432800-1468438200@assetspa.org
SUMMARY:Business Legal Issues Workshop
DESCRIPTION:Women’s Business Center Summer Series \nAre you an entrepreneur looking to launch or grow your business? The Women’s Business Center at ASSETS is inviting you this summer to experience a series of six workshops that dive into the technical side of entrepreneurship: funding\, marketing\, exporting\, government contracting\, and legal issues. Twice a month\, the WBC will run seminars\, both in English and Spanish\, which will give you the tools and knowledge necessary to take your business to the next level.
URL:https://assetspa.org/event/legal-issues/
LOCATION:Binns Park\, 100 Block of North Queen Street \, Lancaster\, PA\, 17603\, United States
CATEGORIES:Other Public Event,Women's Business Center Summer Series
GEO:40.0398934;-76.3060455
X-APPLE-STRUCTURED-LOCATION;VALUE=URI;X-ADDRESS=Binns Park 100 Block of North Queen Street  Lancaster PA 17603 United States;X-APPLE-RADIUS=500;X-TITLE=100 Block of North Queen Street:geo:-76.3060455,40.0398934
END:VEVENT
BEGIN:VEVENT
DTSTART;TZID=America/New_York:20160712T180000
DTEND;TZID=America/New_York:20160712T210000
DTSTAMP:20260421T190552
CREATED:20160212T212320Z
LAST-MODIFIED:20160212T212320Z
UID:10000519-1468346400-1468357200@assetspa.org
SUMMARY:Great Social Enterprise Pitch - Idea Incubators
DESCRIPTION:
URL:https://assetspa.org/event/great-social-enterprise-pitch-idea-incubators/2016-07-12/
LOCATION:Binns Park\, 100 Block of North Queen Street \, Lancaster\, PA\, 17603\, United States
CATEGORIES:Closed Events
GEO:40.0398934;-76.3060455
X-APPLE-STRUCTURED-LOCATION;VALUE=URI;X-ADDRESS=Binns Park 100 Block of North Queen Street  Lancaster PA 17603 United States;X-APPLE-RADIUS=500;X-TITLE=100 Block of North Queen Street:geo:-76.3060455,40.0398934
END:VEVENT
BEGIN:VEVENT
DTSTART;TZID=America/New_York:20160705T180000
DTEND;TZID=America/New_York:20160705T210000
DTSTAMP:20260421T190552
CREATED:20160212T212320Z
LAST-MODIFIED:20160212T212320Z
UID:10000518-1467741600-1467752400@assetspa.org
SUMMARY:Great Social Enterprise Pitch - Idea Incubators
DESCRIPTION:
URL:https://assetspa.org/event/great-social-enterprise-pitch-idea-incubators/2016-07-05/
LOCATION:Binns Park\, 100 Block of North Queen Street \, Lancaster\, PA\, 17603\, United States
CATEGORIES:Closed Events
GEO:40.0398934;-76.3060455
X-APPLE-STRUCTURED-LOCATION;VALUE=URI;X-ADDRESS=Binns Park 100 Block of North Queen Street  Lancaster PA 17603 United States;X-APPLE-RADIUS=500;X-TITLE=100 Block of North Queen Street:geo:-76.3060455,40.0398934
END:VEVENT
BEGIN:VEVENT
DTSTART;TZID=America/New_York:20160629T180000
DTEND;TZID=America/New_York:20160629T193000
DTSTAMP:20260421T190552
CREATED:20160512T184448Z
LAST-MODIFIED:20160512T184448Z
UID:10000528-1467223200-1467228600@assetspa.org
SUMMARY:Find your Funding
DESCRIPTION:Women’s Business Center Summer Series \nAre you an entrepreneur looking to launch or grow your business? The Women’s Business Center at ASSETS is inviting you this summer to experience a series of six workshops that dive into the technical side of entrepreneurship: funding\, marketing\, exporting\, government contracting\, and legal issues. Twice a month\, the WBC will run seminars\, both in English and Spanish\, which will give you the tools and knowledge necessary to take your business to the next level.
URL:https://assetspa.org/event/finding-your-funding/
LOCATION:Binns Park\, 100 Block of North Queen Street \, Lancaster\, PA\, 17603\, United States
CATEGORIES:Other Public Event,Women's Business Center Summer Series
GEO:40.0398934;-76.3060455
X-APPLE-STRUCTURED-LOCATION;VALUE=URI;X-ADDRESS=Binns Park 100 Block of North Queen Street  Lancaster PA 17603 United States;X-APPLE-RADIUS=500;X-TITLE=100 Block of North Queen Street:geo:-76.3060455,40.0398934
END:VEVENT
BEGIN:VEVENT
DTSTART;TZID=America/New_York:20160628T180000
DTEND;TZID=America/New_York:20160628T210000
DTSTAMP:20260421T190552
CREATED:20160212T212320Z
LAST-MODIFIED:20160212T212320Z
UID:10000517-1467136800-1467147600@assetspa.org
SUMMARY:Great Social Enterprise Pitch - Idea Incubators
DESCRIPTION:
URL:https://assetspa.org/event/great-social-enterprise-pitch-idea-incubators/2016-06-28/
LOCATION:Binns Park\, 100 Block of North Queen Street \, Lancaster\, PA\, 17603\, United States
CATEGORIES:Closed Events
GEO:40.0398934;-76.3060455
X-APPLE-STRUCTURED-LOCATION;VALUE=URI;X-ADDRESS=Binns Park 100 Block of North Queen Street  Lancaster PA 17603 United States;X-APPLE-RADIUS=500;X-TITLE=100 Block of North Queen Street:geo:-76.3060455,40.0398934
END:VEVENT
BEGIN:VEVENT
DTSTART;TZID=America/New_York:20160621T180000
DTEND;TZID=America/New_York:20160621T210000
DTSTAMP:20260421T190552
CREATED:20160212T212320Z
LAST-MODIFIED:20160212T212320Z
UID:10000516-1466532000-1466542800@assetspa.org
SUMMARY:Great Social Enterprise Pitch - Idea Incubators
DESCRIPTION:
URL:https://assetspa.org/event/great-social-enterprise-pitch-idea-incubators/2016-06-21/
LOCATION:Binns Park\, 100 Block of North Queen Street \, Lancaster\, PA\, 17603\, United States
CATEGORIES:Closed Events
GEO:40.0398934;-76.3060455
X-APPLE-STRUCTURED-LOCATION;VALUE=URI;X-ADDRESS=Binns Park 100 Block of North Queen Street  Lancaster PA 17603 United States;X-APPLE-RADIUS=500;X-TITLE=100 Block of North Queen Street:geo:-76.3060455,40.0398934
END:VEVENT
BEGIN:VEVENT
DTSTART;TZID=America/New_York:20160615T180000
DTEND;TZID=America/New_York:20160615T193000
DTSTAMP:20260421T190552
CREATED:20160512T184332Z
LAST-MODIFIED:20160512T184332Z
UID:10000527-1466013600-1466019000@assetspa.org
SUMMARY:Business Startup Workshop
DESCRIPTION:Women’s Business Center Summer Series \nAre you an entrepreneur looking to launch or grow your business? The Women’s Business Center at ASSETS is inviting you this summer to experience a series of six workshops that dive into the technical side of entrepreneurship: funding\, marketing\, exporting\, government contracting\, and legal issues. Twice a month\, the WBC will run seminars\, both in English and Spanish\, which will give you the tools and knowledge necessary to take your business to the next level.
URL:https://assetspa.org/event/business-startup/
LOCATION:Binns Park\, 100 Block of North Queen Street \, Lancaster\, PA\, 17603\, United States
CATEGORIES:Other Public Event,Women's Business Center Summer Series
GEO:40.0398934;-76.3060455
X-APPLE-STRUCTURED-LOCATION;VALUE=URI;X-ADDRESS=Binns Park 100 Block of North Queen Street  Lancaster PA 17603 United States;X-APPLE-RADIUS=500;X-TITLE=100 Block of North Queen Street:geo:-76.3060455,40.0398934
END:VEVENT
BEGIN:VEVENT
DTSTART;TZID=America/New_York:20160614T180000
DTEND;TZID=America/New_York:20160614T210000
DTSTAMP:20260421T190552
CREATED:20160212T212320Z
LAST-MODIFIED:20160212T212320Z
UID:10000515-1465927200-1465938000@assetspa.org
SUMMARY:Great Social Enterprise Pitch - Idea Incubators
DESCRIPTION:
URL:https://assetspa.org/event/great-social-enterprise-pitch-idea-incubators/2016-06-14/
LOCATION:Binns Park\, 100 Block of North Queen Street \, Lancaster\, PA\, 17603\, United States
CATEGORIES:Closed Events
GEO:40.0398934;-76.3060455
X-APPLE-STRUCTURED-LOCATION;VALUE=URI;X-ADDRESS=Binns Park 100 Block of North Queen Street  Lancaster PA 17603 United States;X-APPLE-RADIUS=500;X-TITLE=100 Block of North Queen Street:geo:-76.3060455,40.0398934
END:VEVENT
BEGIN:VEVENT
DTSTART;TZID=America/New_York:20160607T180000
DTEND;TZID=America/New_York:20160607T210000
DTSTAMP:20260421T190552
CREATED:20160212T212320Z
LAST-MODIFIED:20160212T212320Z
UID:10000514-1465322400-1465333200@assetspa.org
SUMMARY:Great Social Enterprise Pitch - Idea Incubators
DESCRIPTION:
URL:https://assetspa.org/event/great-social-enterprise-pitch-idea-incubators/2016-06-07/
LOCATION:Binns Park\, 100 Block of North Queen Street \, Lancaster\, PA\, 17603\, United States
CATEGORIES:Closed Events
GEO:40.0398934;-76.3060455
X-APPLE-STRUCTURED-LOCATION;VALUE=URI;X-ADDRESS=Binns Park 100 Block of North Queen Street  Lancaster PA 17603 United States;X-APPLE-RADIUS=500;X-TITLE=100 Block of North Queen Street:geo:-76.3060455,40.0398934
END:VEVENT
BEGIN:VEVENT
DTSTART;TZID=America/New_York:20160603T173000
DTEND;TZID=America/New_York:20160603T190000
DTSTAMP:20260421T190552
CREATED:20160601T165935Z
LAST-MODIFIED:20160601T165935Z
UID:10000538-1464975000-1464980400@assetspa.org
SUMMARY:Women's Business Center Open House
DESCRIPTION:Join us for an Open House on First Friday to celebrate the ASSETS Women’s Business Center. This will be an opportunity for women leaders and business owners to network\, have light refreshments and hear about the resources offered by the WBC. We will also feature some displays from some woman-owned businesses in Lancaster. Stop by on your way out for First Friday events!
URL:https://assetspa.org/event/womens-business-center-open-house/
LOCATION:Binns Park\, 100 Block of North Queen Street \, Lancaster\, PA\, 17603\, United States
CATEGORIES:Other Public Event
GEO:40.0398934;-76.3060455
X-APPLE-STRUCTURED-LOCATION;VALUE=URI;X-ADDRESS=Binns Park 100 Block of North Queen Street  Lancaster PA 17603 United States;X-APPLE-RADIUS=500;X-TITLE=100 Block of North Queen Street:geo:-76.3060455,40.0398934
END:VEVENT
BEGIN:VEVENT
DTSTART;TZID=America/New_York:20160531T180000
DTEND;TZID=America/New_York:20160531T210000
DTSTAMP:20260421T190552
CREATED:20160212T212320Z
LAST-MODIFIED:20160212T212320Z
UID:10000513-1464717600-1464728400@assetspa.org
SUMMARY:Great Social Enterprise Pitch - Idea Incubators
DESCRIPTION:
URL:https://assetspa.org/event/great-social-enterprise-pitch-idea-incubators/2016-05-31/
LOCATION:Binns Park\, 100 Block of North Queen Street \, Lancaster\, PA\, 17603\, United States
CATEGORIES:Closed Events
GEO:40.0398934;-76.3060455
X-APPLE-STRUCTURED-LOCATION;VALUE=URI;X-ADDRESS=Binns Park 100 Block of North Queen Street  Lancaster PA 17603 United States;X-APPLE-RADIUS=500;X-TITLE=100 Block of North Queen Street:geo:-76.3060455,40.0398934
END:VEVENT
BEGIN:VEVENT
DTSTART;TZID=America/New_York:20160524T180000
DTEND;TZID=America/New_York:20160524T210000
DTSTAMP:20260421T190552
CREATED:20160212T212320Z
LAST-MODIFIED:20160212T212320Z
UID:10000512-1464112800-1464123600@assetspa.org
SUMMARY:Great Social Enterprise Pitch - Idea Incubators
DESCRIPTION:
URL:https://assetspa.org/event/great-social-enterprise-pitch-idea-incubators/2016-05-24/
LOCATION:Binns Park\, 100 Block of North Queen Street \, Lancaster\, PA\, 17603\, United States
CATEGORIES:Closed Events
GEO:40.0398934;-76.3060455
X-APPLE-STRUCTURED-LOCATION;VALUE=URI;X-ADDRESS=Binns Park 100 Block of North Queen Street  Lancaster PA 17603 United States;X-APPLE-RADIUS=500;X-TITLE=100 Block of North Queen Street:geo:-76.3060455,40.0398934
END:VEVENT
BEGIN:VEVENT
DTSTART;TZID=America/New_York:20160517T180000
DTEND;TZID=America/New_York:20160517T210000
DTSTAMP:20260421T190552
CREATED:20160212T212320Z
LAST-MODIFIED:20160212T212320Z
UID:10000511-1463508000-1463518800@assetspa.org
SUMMARY:Great Social Enterprise Pitch - Idea Incubators
DESCRIPTION:
URL:https://assetspa.org/event/great-social-enterprise-pitch-idea-incubators/2016-05-17/
LOCATION:Binns Park\, 100 Block of North Queen Street \, Lancaster\, PA\, 17603\, United States
CATEGORIES:Closed Events
GEO:40.0398934;-76.3060455
X-APPLE-STRUCTURED-LOCATION;VALUE=URI;X-ADDRESS=Binns Park 100 Block of North Queen Street  Lancaster PA 17603 United States;X-APPLE-RADIUS=500;X-TITLE=100 Block of North Queen Street:geo:-76.3060455,40.0398934
END:VEVENT
BEGIN:VEVENT
DTSTART;TZID=America/New_York:20160510T180000
DTEND;TZID=America/New_York:20160510T210000
DTSTAMP:20260421T190552
CREATED:20160212T212320Z
LAST-MODIFIED:20160212T212320Z
UID:10000510-1462903200-1462914000@assetspa.org
SUMMARY:Great Social Enterprise Pitch - Idea Incubators
DESCRIPTION:
URL:https://assetspa.org/event/great-social-enterprise-pitch-idea-incubators/2016-05-10/
LOCATION:Binns Park\, 100 Block of North Queen Street \, Lancaster\, PA\, 17603\, United States
CATEGORIES:Closed Events
GEO:40.0398934;-76.3060455
X-APPLE-STRUCTURED-LOCATION;VALUE=URI;X-ADDRESS=Binns Park 100 Block of North Queen Street  Lancaster PA 17603 United States;X-APPLE-RADIUS=500;X-TITLE=100 Block of North Queen Street:geo:-76.3060455,40.0398934
END:VEVENT
BEGIN:VEVENT
DTSTART;TZID=America/New_York:20160503T180000
DTEND;TZID=America/New_York:20160503T210000
DTSTAMP:20260421T190552
CREATED:20160212T212320Z
LAST-MODIFIED:20160212T212320Z
UID:10000509-1462298400-1462309200@assetspa.org
SUMMARY:Great Social Enterprise Pitch - Idea Incubators
DESCRIPTION:
URL:https://assetspa.org/event/great-social-enterprise-pitch-idea-incubators/2016-05-03/
LOCATION:Binns Park\, 100 Block of North Queen Street \, Lancaster\, PA\, 17603\, United States
CATEGORIES:Closed Events
GEO:40.0398934;-76.3060455
X-APPLE-STRUCTURED-LOCATION;VALUE=URI;X-ADDRESS=Binns Park 100 Block of North Queen Street  Lancaster PA 17603 United States;X-APPLE-RADIUS=500;X-TITLE=100 Block of North Queen Street:geo:-76.3060455,40.0398934
END:VEVENT
BEGIN:VEVENT
DTSTART;VALUE=DATE:20160503
DTEND;VALUE=DATE:20160504
DTSTAMP:20260421T190552
CREATED:20160212T201932Z
LAST-MODIFIED:20160212T201932Z
UID:10000484-1462233600-1462319999@assetspa.org
SUMMARY:Great Social Enterprise Idea Incubator Begins
DESCRIPTION:
URL:https://assetspa.org/event/great-social-enterprise-idea-incubator-begins/
LOCATION:Binns Park\, 100 Block of North Queen Street \, Lancaster\, PA\, 17603\, United States
CATEGORIES:Great Social Enterprise Pitch
GEO:40.0398934;-76.3060455
X-APPLE-STRUCTURED-LOCATION;VALUE=URI;X-ADDRESS=Binns Park 100 Block of North Queen Street  Lancaster PA 17603 United States;X-APPLE-RADIUS=500;X-TITLE=100 Block of North Queen Street:geo:-76.3060455,40.0398934
END:VEVENT
BEGIN:VEVENT
DTSTART;TZID=America/New_York:20160426T180000
DTEND;TZID=America/New_York:20160426T210000
DTSTAMP:20260421T190552
CREATED:20160212T211021Z
LAST-MODIFIED:20160212T211021Z
UID:10000499-1461693600-1461704400@assetspa.org
SUMMARY:Business Start-Up Learning Circle
DESCRIPTION:
URL:https://assetspa.org/event/business-start-up-learning-circle/2016-04-26/
LOCATION:Binns Park\, 100 Block of North Queen Street \, Lancaster\, PA\, 17603\, United States
CATEGORIES:Closed Events
GEO:40.0398934;-76.3060455
X-APPLE-STRUCTURED-LOCATION;VALUE=URI;X-ADDRESS=Binns Park 100 Block of North Queen Street  Lancaster PA 17603 United States;X-APPLE-RADIUS=500;X-TITLE=100 Block of North Queen Street:geo:-76.3060455,40.0398934
END:VEVENT
BEGIN:VEVENT
DTSTART;TZID=America/New_York:20160420T180000
DTEND;TZID=America/New_York:20160420T210000
DTSTAMP:20260421T190552
CREATED:20160212T211705Z
LAST-MODIFIED:20160212T211705Z
UID:10000508-1461175200-1461186000@assetspa.org
SUMMARY:Women's Leadership Circle
DESCRIPTION:
URL:https://assetspa.org/event/womens-leadership-circle/2016-04-20/
LOCATION:Binns Park\, 100 Block of North Queen Street \, Lancaster\, PA\, 17603\, United States
CATEGORIES:Closed Events
GEO:40.0398934;-76.3060455
X-APPLE-STRUCTURED-LOCATION;VALUE=URI;X-ADDRESS=Binns Park 100 Block of North Queen Street  Lancaster PA 17603 United States;X-APPLE-RADIUS=500;X-TITLE=100 Block of North Queen Street:geo:-76.3060455,40.0398934
END:VEVENT
BEGIN:VEVENT
DTSTART;TZID=America/New_York:20160419T180000
DTEND;TZID=America/New_York:20160419T210000
DTSTAMP:20260421T190552
CREATED:20160212T211021Z
LAST-MODIFIED:20160212T211021Z
UID:10000498-1461088800-1461099600@assetspa.org
SUMMARY:Business Start-Up Learning Circle
DESCRIPTION:
URL:https://assetspa.org/event/business-start-up-learning-circle/2016-04-19/
LOCATION:Binns Park\, 100 Block of North Queen Street \, Lancaster\, PA\, 17603\, United States
CATEGORIES:Closed Events
GEO:40.0398934;-76.3060455
X-APPLE-STRUCTURED-LOCATION;VALUE=URI;X-ADDRESS=Binns Park 100 Block of North Queen Street  Lancaster PA 17603 United States;X-APPLE-RADIUS=500;X-TITLE=100 Block of North Queen Street:geo:-76.3060455,40.0398934
END:VEVENT
BEGIN:VEVENT
DTSTART;TZID=America/New_York:20160413T180000
DTEND;TZID=America/New_York:20160413T210000
DTSTAMP:20260421T190552
CREATED:20160212T211705Z
LAST-MODIFIED:20160212T211705Z
UID:10000507-1460570400-1460581200@assetspa.org
SUMMARY:Women's Leadership Circle
DESCRIPTION:
URL:https://assetspa.org/event/womens-leadership-circle/2016-04-13/
LOCATION:Binns Park\, 100 Block of North Queen Street \, Lancaster\, PA\, 17603\, United States
CATEGORIES:Closed Events
GEO:40.0398934;-76.3060455
X-APPLE-STRUCTURED-LOCATION;VALUE=URI;X-ADDRESS=Binns Park 100 Block of North Queen Street  Lancaster PA 17603 United States;X-APPLE-RADIUS=500;X-TITLE=100 Block of North Queen Street:geo:-76.3060455,40.0398934
END:VEVENT
BEGIN:VEVENT
DTSTART;TZID=America/New_York:20160412T180000
DTEND;TZID=America/New_York:20160412T210000
DTSTAMP:20260421T190552
CREATED:20160212T211021Z
LAST-MODIFIED:20160212T211021Z
UID:10000497-1460484000-1460494800@assetspa.org
SUMMARY:Business Start-Up Learning Circle
DESCRIPTION:
URL:https://assetspa.org/event/business-start-up-learning-circle/2016-04-12/
LOCATION:Binns Park\, 100 Block of North Queen Street \, Lancaster\, PA\, 17603\, United States
CATEGORIES:Closed Events
GEO:40.0398934;-76.3060455
X-APPLE-STRUCTURED-LOCATION;VALUE=URI;X-ADDRESS=Binns Park 100 Block of North Queen Street  Lancaster PA 17603 United States;X-APPLE-RADIUS=500;X-TITLE=100 Block of North Queen Street:geo:-76.3060455,40.0398934
END:VEVENT
BEGIN:VEVENT
DTSTART;VALUE=DATE:20160411
DTEND;VALUE=DATE:20160412
DTSTAMP:20260421T190552
CREATED:20160212T201814Z
LAST-MODIFIED:20160212T201814Z
UID:10000482-1460332800-1460419199@assetspa.org
SUMMARY:Great Social Enterprise Pitch Applications Due
DESCRIPTION:
URL:https://assetspa.org/event/great-social-enterprise-pitch-applications-due/
LOCATION:Binns Park\, 100 Block of North Queen Street \, Lancaster\, PA\, 17603\, United States
CATEGORIES:Application Deadline,Great Social Enterprise Pitch
GEO:40.0398934;-76.3060455
X-APPLE-STRUCTURED-LOCATION;VALUE=URI;X-ADDRESS=Binns Park 100 Block of North Queen Street  Lancaster PA 17603 United States;X-APPLE-RADIUS=500;X-TITLE=100 Block of North Queen Street:geo:-76.3060455,40.0398934
END:VEVENT
END:VCALENDAR